BEGIN:VCALENDAR
METHOD:PUBLISH
VERSION:2.0
PRODID:-//Eventilla iCal Syndication//NONSGML Liana//EN
BEGIN:VEVENT
UID:wkPaE@eventilla.com
DTSTAMP:20260505T053000Z
DTSTART:20260505T053000Z
DTEND:20260505T130000Z
SUMMARY:DefSec 2026
DESCRIPTION:BUY TICKETS\nWelcome to join DefSec 2026! All tickets include a recording and presentation materials. These will be sent to you after the event. Choose the option that suits you the best from the options below.\nAre you participating with a bigger team? You get a group discount for a group of at least 3 people or larger than that. You can also ask a group offer from ida.savolainen-jyrkanvaara@professio.fi – we are happy to help you.
LOCATION:Nordic Event: Clarion Hotel Helsinki Airport\, Taivastie 3\,
 01530\, Vantaa\, Finland
URL:http://events.professio.fi/event/wkPaE
END:VEVENT
END:VCALENDAR
